BEGIN:VCALENDAR
VERSION:2.0
PRODID:-//westfargoevents.com - ECPv6.15.20//NONSGML v1.0//EN
CALSCALE:GREGORIAN
METHOD:PUBLISH
X-ORIGINAL-URL:https://westfargoevents.com
X-WR-CALDESC:Events for westfargoevents.com
REFRESH-INTERVAL;VALUE=DURATION:PT1H
X-Robots-Tag:noindex
X-PUBLISHED-TTL:PT1H
BEGIN:VTIMEZONE
TZID:UTC
BEGIN:STANDARD
TZOFFSETFROM:+0000
TZOFFSETTO:+0000
TZNAME:UTC
DTSTART:20250101T000000
END:STANDARD
END:VTIMEZONE
BEGIN:VEVENT
DTSTART;TZID=UTC:20260627T190000
DTEND;TZID=UTC:20260627T233000
DTSTAMP:20260419T220855
CREATED:20260410T201313Z
LAST-MODIFIED:20260410T201456Z
UID:10001318-1782586800-1782603000@westfargoevents.com
SUMMARY:Brantley Gilbert
DESCRIPTION:BRANTLEY GILBERT COMING TO THE LIGHTS IN WEST FARGO\n\n\n\n\nCountry / Rock Star to Play on Midco Stage at Essentia Health Plaza at The Lights \nErnest and Henning is excited to announce that country / rock artist Brantley Gilbert will play live on\nMIDCO Stage at Essentia Health Plaza at The Lights on Saturday June 27th. Opening support for this\nshow will be announced in the near future. \nAbout Brantley Gilbert\nAs one of the godfathers of country’s modern rock-and-rap edge\, multi-Platinum trailblazer Brantley\nGilbert is an era-defining artist forever bonded to his fans. Gilbert’s been mining the timeless values of\nhard-working dedication\, high-octane thrills and humble faith since his 2009 debut\, A Modern\nDay Prodigal Son\, creating a chart-topping grit-and-grace fusion which helped set the stage for today’s\ngenre-blending format. Marking a pivotal new chapter in his career\, Gilbert recently signed with BBR\nMusic Group/BMG Nashville and is currently carving out his next album\, a project that leans into the\ncore sound that first defined him as an innovator. With his dedicated BG Nation behind him\, the fiery\nperformer-songwriter has racked up more than 8.3 BILLION career streams\, boasting back-to-back\nPlatinum albums and seven No. 1 hits including the RIAA 7x Platinum “Bottoms Up;” 2x Platinum\n“Country Must Be Country Wide;” 2x Platinum “You Don’t Know Her Like I Do;” 2x Platinum “One Hell of\nAn Amen;” and the Platinum-certified “What Happens In A Small Town” with Lindsay Ell. His world-class\npen helped create a watershed hit with Jason Aldean’s 4x Platinum country-rap game changer\, “Dirt\nRoad Anthem.” Possessing a can’t-fake-it quality of fierce independence\, the ACM\, CMA and AMA award\nwinner has toured alongside everyone from Willie Nelson and Toby Keith to Kenny Chesney\, Nickelback\nand more. With his latest album Tattoos available now\, Gilbert is on his headlining Tattoos Tour with\nstops across North America through February 2026 ahead of festival performances this summer\,\nwith additional tour dates to be announced. \nBRANTLEYGILBERT.COM | INSTAGRAM | TIKTOK | YOUTUBE | FACEBOOK | X \nTicket Details\nVIP and General Admission (GA) tickets are available. BUY TICKETS HERE \nAll tickets are standing room only. Tickets for this performance start at an all-in price (FEES INCLUDED) of $79. This event will be RAIN OR SHINE\, and tickets are nonrefundable.
URL:https://westfargoevents.com/event/brantley-gilbert/
LOCATION:Essentia Health Plaza at The Lights\, 3150 Sheyenne Street\, West Fargo\, ND\, 58078\, United States
CATEGORIES:Featured,Live Performance
ATTACH;FMTTYPE=image/jpeg:https://westfargoevents.com/wp-content/uploads/2026/04/WFE_1244x466_BrantleyGilbert.jpg
ORGANIZER;CN="West Fargo Events":MAILTO:info@westfargoevents.com
END:VEVENT
END:VCALENDAR