BEGIN:VCALENDAR
VERSION:2.0
PRODID:-//westfargoevents.com - ECPv6.15.20//NONSGML v1.0//EN
CALSCALE:GREGORIAN
METHOD:PUBLISH
X-ORIGINAL-URL:https://westfargoevents.com
X-WR-CALDESC:Events for westfargoevents.com
REFRESH-INTERVAL;VALUE=DURATION:PT1H
X-Robots-Tag:noindex
X-PUBLISHED-TTL:PT1H
BEGIN:VTIMEZONE
TZID:UTC
BEGIN:STANDARD
TZOFFSETFROM:+0000
TZOFFSETTO:+0000
TZNAME:UTC
DTSTART:20250101T000000
END:STANDARD
END:VTIMEZONE
BEGIN:VEVENT
DTSTART;TZID=UTC:20260906T150000
DTEND;TZID=UTC:20260906T150000
DTSTAMP:20260420T061435
CREATED:20251208T163533Z
LAST-MODIFIED:20251209T163148Z
UID:10000695-1788706800-1788706800@westfargoevents.com
SUMMARY:Dive Bar Meat Raffle
DESCRIPTION:Join us every Sunday at 3 PM for the Dive Bar Meat Raffle—the most unexpectedly exciting way to wrap up your weekend! Grab a seat\, order your favorite drink\, and get ready for a fast-paced\, laugh-filled chance to win MEAT. Yup… actual cuts of meat. Steaks\, roasts\, bacon—who knows what you’ll take home each week!\nBest part? Every round supports West Fargo Events\, helping us bring more free and fun community activities to our city.\nCome for the meat. Stay for the vibes.\nSee you Sunday! 
URL:https://westfargoevents.com/event/dive-bar-meat-raffle/2026-09-06/
LOCATION:Dive Bar\, 360 32nd Ave W Suite 140\, West Fargo\, ND\, 58078\, United States
CATEGORIES:Charitable Gaming
ATTACH;FMTTYPE=image/jpeg:https://westfargoevents.com/wp-content/uploads/2025/12/Meat-Raffle-Website-Homepage-1.jpg
END:VEVENT
BEGIN:VEVENT
DTSTART;TZID=UTC:20260917T163000
DTEND;TZID=UTC:20260917T200000
DTSTAMP:20260420T061435
CREATED:20260327T164511Z
LAST-MODIFIED:20260327T164514Z
UID:10001314-1789662600-1789675200@westfargoevents.com
SUMMARY:West Fargo Cruise Night
DESCRIPTION:Rev up your engines and cruise into the heart of West Fargo! \n\nBring your favorite ride\, plus your friends and family\, to Sheyenne Street for an unforgettable night at West Fargo Cruise Night.\nFrom Main Avenue W. to 7th Avenue W.\, the streets will be lined with hundreds of classic cars\, custom builds\, and motorcycles each one bringing its own style and story.\nCome hungry\, there will be a variety of food vendors on site serving up delicious eats all night long! \nBest of all? It’s completely FREE to attend! \n\n Featured performers: Elijah O’Sullivan\nWant to be a vendor? Apply here  https://tinyurl.com/CruiseNight2026
URL:https://westfargoevents.com/event/west-fargo-cruise-night-5/
LOCATION:POW/MIA Plaza\, 400 Sheyenne St\, West Fargo\, ND\, 58078\, United States
CATEGORIES:Community,Family,Featured,Live Performance
ATTACH;FMTTYPE=image/png:https://westfargoevents.com/wp-content/uploads/2026/03/Cruise-Night-WFE-Website-Event-List-2.png
ORGANIZER;CN="West Fargo Events":MAILTO:info@westfargoevents.com
END:VEVENT
END:VCALENDAR