BEGIN:VCALENDAR
VERSION:2.0
PRODID:-//westfargoevents.com - ECPv6.15.20//NONSGML v1.0//EN
CALSCALE:GREGORIAN
METHOD:PUBLISH
X-WR-CALNAME:westfargoevents.com
X-ORIGINAL-URL:https://westfargoevents.com
X-WR-CALDESC:Events for westfargoevents.com
REFRESH-INTERVAL;VALUE=DURATION:PT1H
X-Robots-Tag:noindex
X-PUBLISHED-TTL:PT1H
BEGIN:VTIMEZONE
TZID:UTC
BEGIN:STANDARD
TZOFFSETFROM:+0000
TZOFFSETTO:+0000
TZNAME:UTC
DTSTART:20240101T000000
END:STANDARD
END:VTIMEZONE
BEGIN:VEVENT
DTSTART;TZID=UTC:20250920T090000
DTEND;TZID=UTC:20250920T170000
DTSTAMP:20260419T191121
CREATED:20250903T103756Z
LAST-MODIFIED:20250903T103756Z
UID:10000010-1758358800-1758387600@westfargoevents.com
SUMMARY:West Fest Co-Ed Softball Tournament
DESCRIPTION:West Fest Co-Ed Softball Tournament\n Saturday\, September 20\, 2025 |  9:00 AM\n South Elmwood Baseball Park \nGet your team together and swing for the fences at the West Fest Co-Ed Softball Tournament! Whether you’re in it for the competition or just for the fun\, this is a great way to kick off West Fest Saturday. \n Registration is now open!\nSign up your team here  https://pci.jotform.com/form/252176029254153\n Location: South Elmwood Baseball Park\n First pitch: 9:00 AM \nBring your best game\, cheer on friends\, and enjoy a day of community fun on the diamond!
URL:https://westfargoevents.com/event/west-fest-co-ed-softball-tournament/
LOCATION:ND
CATEGORIES:Past Event
ATTACH;FMTTYPE=image/png:https://westfargoevents.com/wp-content/uploads/2025/09/2025-Co-ed-Softball-Tournament-West-Fest-Events.png
ORGANIZER;CN="West Fargo Events":MAILTO:info@westfargoevents.com
END:VEVENT
BEGIN:VEVENT
DTSTART;VALUE=DATE:20250920
DTEND;VALUE=DATE:20250921
DTSTAMP:20260419T191121
CREATED:20250903T104304Z
LAST-MODIFIED:20250903T104628Z
UID:10000011-1758326400-1758412799@westfargoevents.com
SUMMARY:West Fest 2025
DESCRIPTION:West Fest is an annual week long celebration of the community of West Fargo. The celebration includes events for children and adults and one of the largest parades in North Dakota. The events are held throughout the community the third week of September and culminates with a day of celebration in The Downtown Yards on Sheyenne the third Saturday in September.\nVendor and parade registration is now open! \nVendor registration link:\nhttps://form.jotform.com/250086605477158 \nParade registration link:\nhttps://form.jotform.com/250415022383143 \nFull schedule of events is coming soon!
URL:https://westfargoevents.com/event/west-fest-2025/
LOCATION:POW/MIA Plaza\, 400 Sheyenne St\, West Fargo\, ND\, 58078\, United States
CATEGORIES:Past Event
ATTACH;FMTTYPE=image/jpeg:https://westfargoevents.com/wp-content/uploads/2025/09/West-Fest-2025.jpg
ORGANIZER;CN="West Fargo Events":MAILTO:info@westfargoevents.com
END:VEVENT
BEGIN:VEVENT
DTSTART;TZID=UTC:20250918T170000
DTEND;TZID=UTC:20250918T200000
DTSTAMP:20260419T191121
CREATED:20250903T121140Z
LAST-MODIFIED:20250903T121411Z
UID:10000013-1758214800-1758225600@westfargoevents.com
SUMMARY:West Fargo Cruise Night
DESCRIPTION:Interested in being vendor for the 2025 Cruise Nights? Sign up here! https://form.jotform.com/242666752484063 \nBring your favorite ride\, friends and family to the Downtown Yards on Sheyenne Street and join us for West Fargo Cruise Night! \nWest Fargo Cruise Night brings hundreds of unique cars and motorcycles to Sheyenne Street from Main Avenue W. to 7th Avenue W. \nYou don’t want to miss this! West Fargo Cruise Nights are FREE to the public! \nFeatured performers TBA!
URL:https://westfargoevents.com/event/west-fargo-cruise-night-2/
LOCATION:POW/MIA Plaza\, 400 Sheyenne St\, West Fargo\, ND\, 58078\, United States
CATEGORIES:Past Event
ATTACH;FMTTYPE=image/jpeg:https://westfargoevents.com/wp-content/uploads/2025/09/West-Fest-2025-tinified.jpg
END:VEVENT
BEGIN:VEVENT
DTSTART;TZID=UTC:20250916T180000
DTEND;TZID=UTC:20250916T200000
DTSTAMP:20260419T191121
CREATED:20250903T122509Z
LAST-MODIFIED:20250903T122509Z
UID:10000014-1758045600-1758052800@westfargoevents.com
SUMMARY:WOOFSTOCK
DESCRIPTION: Woofstock 2025\nTuesday\, September 16 | 6:00 PM\nLocation: Essentia Health Plaza at The Lights \nGet ready for a tail-waggin’ good time at Woofstock – the ultimate dog-friendly event celebrating our four-legged friends in groovy style! \nJoin us for an evening packed with pawsome activities including:\n A 1-Mile Pup Walk – strut your mutt and enjoy a scenic stroll with fellow dog lovers\n Dog Costume Contest – show off your pup’s style and compete for fun prizes\n Paw & Nose Print Craft Station – make a one-of-a-kind keepsake with your furry best friend\n Custom Dog Bandanas – stylish swag your pup will love\n Dog-Friendly Vendors – treats\, toys\, accessories\, and more \nWhether your pup is a diva\, a chill companion\, or the life of the paw-ty\, Woofstock is the perfect way to celebrate the bond between humans and their dogs.\nAll friendly\, leashed dogs welcome!\nAdmission is free – bring your friends\, family\, and most importantly\, your pup! \nLet’s make some memories and bark the night away at Woofstock 2025!
URL:https://westfargoevents.com/event/woofstock/
LOCATION:Essentia Health Plaza at The Lights\, 3150 Sheyenne Street\, West Fargo\, ND\, 58078\, United States
CATEGORIES:Past Event
ATTACH;FMTTYPE=image/jpeg:https://westfargoevents.com/wp-content/uploads/2025/09/woofstock-2025.jpg
ORGANIZER;CN="West Fargo Events":MAILTO:info@westfargoevents.com
END:VEVENT
BEGIN:VEVENT
DTSTART;TZID=UTC:20250914T180000
DTEND;TZID=UTC:20250914T220000
DTSTAMP:20260419T191121
CREATED:20250801T151104Z
LAST-MODIFIED:20250801T151125Z
UID:10000002-1757872800-1757887200@westfargoevents.com
SUMMARY:Charitable Poker Night
DESCRIPTION:An evening of friendly poker games where all proceeds support local youth programs. Enjoy snacks\, raffles\, and great company while giving back.
URL:https://westfargoevents.com/event/charitable-poker-night/
LOCATION:The Lights Ice Rink\, 300 32nd Ave W\, West Fargo\, ND\, 58078\, United States
CATEGORIES:Past Event
ATTACH;FMTTYPE=image/png:https://westfargoevents.com/wp-content/uploads/2025/07/submission-guidelines-img.png
END:VEVENT
BEGIN:VEVENT
DTSTART;TZID=UTC:20250914T130000
DTEND;TZID=UTC:20250914T150000
DTSTAMP:20260419T191121
CREATED:20250903T140139Z
LAST-MODIFIED:20250903T140139Z
UID:10000015-1757854800-1757862000@westfargoevents.com
SUMMARY:WFE Carnival
DESCRIPTION:Step right up for a night of excitement and adventure at our West Fargo Events Carnival on Sunday\, September 14th! This action-packed event brings the magic of the carnival right to your neighborhood! \n : Sunday\, September 14\, 2025\n : 1:00 PM – 3:00 PM\n : Essentia Health Plaza at The Lights \nThe fun includes:\n– Carnival Games – Try your luck at classic games like ring toss\, duck pond\, pick-a-pop and plinko to win fun prizes!\n– Face Painting – Add a fun animal or design to your cheek with vibrant face painting.\n– And more to be announced! \nWith free games for all ages\, delicious concessions to snack on\, and a relaxed\, welcoming atmosphere\, it’s the perfect way to spend an unforgettable afternoon full of laughter\, luck\, and games. \nCome one\, come all – we can’t wait to see you at this spectacular Carnival-Themed Family Fun event!
URL:https://westfargoevents.com/event/wfe-carnival/
LOCATION:Essentia Health Plaza at The Lights\, 3150 Sheyenne Street\, West Fargo\, ND\, 58078\, United States
CATEGORIES:Past Event
ATTACH;FMTTYPE=image/jpeg:https://westfargoevents.com/wp-content/uploads/2025/09/wfe-carnival-2025.jpg
ORGANIZER;CN="West Fargo Events":MAILTO:info@westfargoevents.com
END:VEVENT
BEGIN:VEVENT
DTSTART;TZID=UTC:20250914T080000
DTEND;TZID=UTC:20250914T100000
DTSTAMP:20260419T191121
CREATED:20250903T141235Z
LAST-MODIFIED:20250903T141235Z
UID:10000016-1757836800-1757844000@westfargoevents.com
SUMMARY:West Fest 5k/10k
DESCRIPTION:West Fest 5K & NEW 10K – Sunday\, September 14\, 2025 \nLace up your running shoes — the West Fest 5K is back\, and this year we’re excited to introduce the brand-new 10K distance! Whether you’re aiming for a personal best or just want a fun way to kick off West Fest\, this is your chance to be part of the action. \n Starting location: Essentia Health Plaza at The Lights\n Start time: 8:00 AM\n Open to runners & walkers of all paces and ages. \nBring your unbeatable West Fest energy\nRegister now: https://form.jotform.com/240743908414053
URL:https://westfargoevents.com/event/west-fest-5k-10k/
LOCATION:Essentia Health Plaza at The Lights\, 3150 Sheyenne Street\, West Fargo\, ND\, 58078\, United States
CATEGORIES:Past Event
ATTACH;FMTTYPE=image/jpeg:https://westfargoevents.com/wp-content/uploads/2025/09/West-Fest-5k-10k.jpg
ORGANIZER;CN="West Fargo Events":MAILTO:info@westfargoevents.com
END:VEVENT
BEGIN:VEVENT
DTSTART;TZID=UTC:20250913T200000
DTEND;TZID=UTC:20250913T220000
DTSTAMP:20260419T191121
CREATED:20250903T143851Z
LAST-MODIFIED:20250903T143851Z
UID:10000017-1757793600-1757800800@westfargoevents.com
SUMMARY:Movie After Dark: Top Gun: Maverick
DESCRIPTION:Get ready for an unforgettable evening under the stars at our Movie After Dark on Saturday\, September 13th! Join us for a relaxing and fun night out as we screen Top Gun: Maverick in a beautiful outdoor setting. Whether you’re a movie buff or just looking for a fun way to unwind\, this event is perfect for everyone.\nThe movie begins at 8:00 PM\, but arrive early to claim your spot! \nThis is a FREE event\, so bring your friends\, family\, and anyone who loves a great movie night! \n : September 13\, 2025\n : 8:00 PM – 10:00 PM\n : Essentia Health Plaza at The Lights \nDon’t forget:\n~Free popcorn for all attendees\, while supplies last!\n~Feel free to bring your own comfy seating.\n~The movie starts at 8:00 PM\, but come early to grab the best spot! \nWe can’t wait to see you for a magical evening of movies\, stars\, and great company!
URL:https://westfargoevents.com/event/movie-after-dark-top-gun-maverick/
LOCATION:Essentia Health Plaza at The Lights\, 3150 Sheyenne Street\, West Fargo\, ND\, 58078\, United States
CATEGORIES:Past Event
ATTACH;FMTTYPE=image/jpeg:https://westfargoevents.com/wp-content/uploads/2025/09/MADTopGunLights.jpg
ORGANIZER;CN="West Fargo Events":MAILTO:info@westfargoevents.com
END:VEVENT
BEGIN:VEVENT
DTSTART;TZID=UTC:20250912T190000
DTEND;TZID=UTC:20250912T223000
DTSTAMP:20260419T191121
CREATED:20250903T154521Z
LAST-MODIFIED:20250903T154622Z
UID:10000018-1757703600-1757716200@westfargoevents.com
SUMMARY:Bret Michaels
DESCRIPTION:BRET MICHAELS TO PERFORM AT THE LIGHTS IN WEST FARGO \nBret Michaels is Bringing His Record-Setting Parti-Gras Tour to ESSENTIA HEALTH PLAZA on September 12\, 2025 \nErnest and Henning is excited to announce Bret Michaels will perform live on MIDCO Stage at Essentia Health Plaza at The Lights on Friday\, September 12\, 2025\, at 7:00 pm. Special Guest Stephen Pearcy of RATT will be direct support. \nTicket Details \nVIP and General Admission (GA) tickets are available. All tickets are standing room only. GA tickets for this performance are priced at $59 plus fees and VIP tickets are $79 plus fees. Tickets will go on sale to the public at 10:00am on Friday\, May 9th at Ticketmaster.com. This event will be RAIN OR SHINE\, and tickets are non-refundable. \nTicket Presale: Thursday\, May 8 from 10am-10pm\nSign up to get your presale code HERE! \nTickets on Sale: Friday\, May 9 at 10am\nGet your tickets here! \nAbout Bret Michaels \nAfter Summer 2022’s massive Stadium Tour with his band Poison and his smash success Parti-Gras Tour of 2023 and 2024\, Bret is bringing his big hits and legendary energy to West Fargo. His iconic smash hits include “ Every Rose Has Its Thorn\,” “Nothin’ But A Good Time\,” “Talk Dirty to Me\,” his crowd-favorite cover of“ Your Mama Don’t Dance” and many more. \nWith over three generations of fans\, Bret Michaels is revered as a megastar in the entertainment industry. One of music’s most iconic singer/songwriters\, Michaels has sold over 100 million records\, digital downloads and streams worldwide and had numerous hit singles including Every Rose Has Its Thorn\, Go That Far and Nothing But A Good Time. His record-breaking television shows include Rock of Love with Bret Michaels\, Life As I know It\, and the Travel Channel’s Bret Michaels ’ Rock My RV as well as the audience fan-favorite Banana in the Fox hit show The Masked Singer. In addition to his music and television successes\, Michaels is well-known as acreative entrepreneur. After winning The Celebrity Apprentice\, Michaels went on to create the only product to have lived on past the show – his famous Snapple Trop-A-Rocka Iced Tea. Michaels\, a lifelong diabetic and the son of a veteran\, has always made giving back a priority throughout his career. Having been twice named Humanitarian of the Year by the world-famous Hollywood Christmas Parade\, the musician’s Life Rocks Foundation continues to provide support to a myriad of charities and causes around the globe. Find all the latest tour dates\, news and more\, visit www.BretMichaels.com or on Instagram\, Facebook\, Twitter and TikTok. \nAbout The Lights \nThe Lights is an entertainment district located in West Fargo that encompasses 20+ Businesses\, nearly 300 units of apartments and condominiums\, a public parking ramp and its centerpiece\, the Essentia Health Plaza\, a 40\,000 sq. ft. outdoor venue that is home to many community events\, special events and concerts. \nAbout Ernest and Henning \nErnest and Henning is an independent event promoter located in West Fargo\, ND. \nTicketmaster.com is the official and sole ticket distributor of Ernest & Henning promoted concerts on MIDCO Stage at Essentia Health Plaza at The Lights. Any tickets purchased outside of Ticketmaster.com run the risk of being fraud/scam or non sufficient as event entry.
URL:https://westfargoevents.com/event/bret-michaels/
LOCATION:Essentia Health Plaza at The Lights\, 3150 Sheyenne Street\, West Fargo\, ND\, 58078\, United States
CATEGORIES:Past Event
ATTACH;FMTTYPE=image/jpeg:https://westfargoevents.com/wp-content/uploads/2025/09/Bret-Michaels-09-2025.jpg
END:VEVENT
BEGIN:VEVENT
DTSTART;TZID=UTC:20250909T130000
DTEND;TZID=UTC:20250909T210000
DTSTAMP:20260419T191121
CREATED:20250903T175318Z
LAST-MODIFIED:20250903T175318Z
UID:10000019-1757422800-1757451600@westfargoevents.com
SUMMARY:Landon's Light Volleyball Invite
DESCRIPTION:Landon’s Light Foundation is proud to host the first-ever outdoor high school volleyball invite at the Essentia Health Plaza at The Lights! \nJoin us under the sun and lights for an unforgettable day of competition\, community\, and purpose. This one-of-a-kind event brings together local high school volleyball teams for high-energy outdoor matchups—celebrating athleticism\, teamwork\, and the spirit of Landon’s Light.\nGame 1 – 1:30 pm – Shanley vs. Fargo Davies\nGame 2 – 3:30 pm – Horace vs. Fargo North\nGame 3 – 5:30 pm – West Fargo vs. Moorhead\nGame 4 – 7:30 pm – Sheyenne vs. Fargo South\nStudents: $5\nAdults: $15\nKids 6 and under FREE \n**Minimum donation for admission. CASH ONLY.\nAll proceeds go towards the mission of Landon’s Light Foundation. \nFOOD TRUCKS WILL BE ONSITE!\n– Mac Daddy’s\n– Hot Off The Press\n– Lundy’s Ice Cream \nWe also will have concessions available from WF Events.\nFrom powerful serves to inspiring moments\, this is more than just volleyball—it’s a celebration of hope\, resilience\, and youth coming together to shine bright on and off the court. Don’t miss the excitement\, the energy\, and the impact. Let’s rally for a cause and light up the court—together.\nSponsorships are available. Visit landonslight.org to learn more about how you can be part of this historic day.
URL:https://westfargoevents.com/event/landons-light-volleyball-invite/
LOCATION:Essentia Health Plaza at The Lights\, 3150 Sheyenne Street\, West Fargo\, ND\, 58078\, United States
CATEGORIES:Past Event
ATTACH;FMTTYPE=image/jpeg:https://westfargoevents.com/wp-content/uploads/2025/09/Landons-Light-Volleyball-Invite.jpg
ORGANIZER;CN="West Fargo Events":MAILTO:info@westfargoevents.com
END:VEVENT
BEGIN:VEVENT
DTSTART;TZID=UTC:20250828T080000
DTEND;TZID=UTC:20250828T170000
DTSTAMP:20260419T191121
CREATED:20250731T075332Z
LAST-MODIFIED:20250905T104327Z
UID:10000001-1756368000-1756400400@westfargoevents.com
SUMMARY:THEATER NIGHT: Disney’s Newsies
DESCRIPTION:Set in turn-of-the century New York City\, Newsies is the rousing tale of Jack Kelly\, a charismatic newsboy and leader of a band of teenaged “newsies.” When titans of publishing raise distribution prices at the newsboys’ expense.
URL:https://westfargoevents.com/event/theater-night-disneys-newsies/
LOCATION:Stage West Studio\, 300 Sheyenne St. Suite 120\, West Fargo\, ND\, 58078\, United States
CATEGORIES:Past Event
ATTACH;FMTTYPE=image/jpeg:https://westfargoevents.com/wp-content/uploads/2025/07/events-hero-bg.jpg
ORGANIZER;CN="West Fargo Events":MAILTO:info@westfargoevents.com
END:VEVENT
END:VCALENDAR