BEGIN:VCALENDAR
VERSION:2.0
PRODID:-//westfargoevents.com - ECPv6.15.20//NONSGML v1.0//EN
CALSCALE:GREGORIAN
METHOD:PUBLISH
X-ORIGINAL-URL:https://westfargoevents.com
X-WR-CALDESC:Events for westfargoevents.com
REFRESH-INTERVAL;VALUE=DURATION:PT1H
X-Robots-Tag:noindex
X-PUBLISHED-TTL:PT1H
BEGIN:VTIMEZONE
TZID:UTC
BEGIN:STANDARD
TZOFFSETFROM:+0000
TZOFFSETTO:+0000
TZNAME:UTC
DTSTART:20240101T000000
END:STANDARD
END:VTIMEZONE
BEGIN:VEVENT
DTSTART;TZID=UTC:20250828T080000
DTEND;TZID=UTC:20250828T170000
DTSTAMP:20260419T204547
CREATED:20250731T075332Z
LAST-MODIFIED:20250905T104327Z
UID:10000001-1756368000-1756400400@westfargoevents.com
SUMMARY:THEATER NIGHT: Disney’s Newsies
DESCRIPTION:Set in turn-of-the century New York City\, Newsies is the rousing tale of Jack Kelly\, a charismatic newsboy and leader of a band of teenaged “newsies.” When titans of publishing raise distribution prices at the newsboys’ expense.
URL:https://westfargoevents.com/event/theater-night-disneys-newsies/
LOCATION:Stage West Studio\, 300 Sheyenne St. Suite 120\, West Fargo\, ND\, 58078\, United States
CATEGORIES:Past Event
ATTACH;FMTTYPE=image/jpeg:https://westfargoevents.com/wp-content/uploads/2025/07/events-hero-bg.jpg
ORGANIZER;CN="West Fargo Events":MAILTO:info@westfargoevents.com
END:VEVENT
END:VCALENDAR