BEGIN:VCALENDAR
VERSION:2.0
PRODID:-//westfargoevents.com - ECPv6.15.20//NONSGML v1.0//EN
CALSCALE:GREGORIAN
METHOD:PUBLISH
X-WR-CALNAME:westfargoevents.com
X-ORIGINAL-URL:https://westfargoevents.com
X-WR-CALDESC:Events for westfargoevents.com
REFRESH-INTERVAL;VALUE=DURATION:PT1H
X-Robots-Tag:noindex
X-PUBLISHED-TTL:PT1H
BEGIN:VTIMEZONE
TZID:UTC
BEGIN:STANDARD
TZOFFSETFROM:+0000
TZOFFSETTO:+0000
TZNAME:UTC
DTSTART:20250101T000000
END:STANDARD
END:VTIMEZONE
BEGIN:VEVENT
DTSTART;TZID=UTC:20260301T100000
DTEND;TZID=UTC:20260301T173000
DTSTAMP:20260419T171610
CREATED:20260223T211519Z
LAST-MODIFIED:20260223T211523Z
UID:10001290-1772359200-1772386200@westfargoevents.com
SUMMARY:Open Skate
DESCRIPTION:Enjoy FREE community skating at The Lights Ice Rink! ⛸️❄️Whether you’re gliding for fun\, practicing your skills\, or making memories with family and friends\, our rink is open and welcoming to all 💙✨ \nNeed skates? No problem! 👟Rentals are available for just $5 in the Community Room. We also offer skate aids for young children and anyone who could use a little extra support on the ice—because everyone deserves to feel confident and have fun out there 🙌😊 \nSo come bundle up 🧣\, lace up 👟\, and enjoy the season with us ❄️✨ \n*All times are subject to change due to private rentals\, weather\, or scheduled events
URL:https://westfargoevents.com/event/open-skate-4/2026-03-01/
LOCATION:The Lights Ice Rink\, 300 32nd Ave W\, West Fargo\, ND\, 58078\, United States
CATEGORIES:Community,Family,Featured,Outdoor Recreation,Seasonal
ATTACH;FMTTYPE=image/jpeg:https://westfargoevents.com/wp-content/uploads/2025/12/Open-Skate-Website-Event-Image.jpg
ORGANIZER;CN="West Fargo Events":MAILTO:info@westfargoevents.com
END:VEVENT
BEGIN:VEVENT
DTSTART;TZID=UTC:20260301T150000
DTEND;TZID=UTC:20260301T150000
DTSTAMP:20260419T171610
CREATED:20251208T163533Z
LAST-MODIFIED:20251209T163148Z
UID:10000668-1772377200-1772377200@westfargoevents.com
SUMMARY:Dive Bar Meat Raffle
DESCRIPTION:Join us every Sunday at 3 PM for the Dive Bar Meat Raffle—the most unexpectedly exciting way to wrap up your weekend! Grab a seat\, order your favorite drink\, and get ready for a fast-paced\, laugh-filled chance to win MEAT. Yup… actual cuts of meat. Steaks\, roasts\, bacon—who knows what you’ll take home each week!\nBest part? Every round supports West Fargo Events\, helping us bring more free and fun community activities to our city.\nCome for the meat. Stay for the vibes.\nSee you Sunday! 
URL:https://westfargoevents.com/event/dive-bar-meat-raffle/2026-03-01/
LOCATION:Dive Bar\, 360 32nd Ave W Suite 140\, West Fargo\, ND\, 58078\, United States
CATEGORIES:Charitable Gaming
ATTACH;FMTTYPE=image/jpeg:https://westfargoevents.com/wp-content/uploads/2025/12/Meat-Raffle-Website-Homepage-1.jpg
END:VEVENT
BEGIN:VEVENT
DTSTART;TZID=UTC:20260301T180000
DTEND;TZID=UTC:20260301T203000
DTSTAMP:20260419T171610
CREATED:20260223T211849Z
LAST-MODIFIED:20260223T211852Z
UID:10001291-1772388000-1772397000@westfargoevents.com
SUMMARY:Open Hockey
DESCRIPTION:Join us for Open Hockey at the Lights Ice Rink at Essentia Health Plaza! Enjoy a relaxed\, pick-up style skate open to all skill levels. \nDates are subject to change due to rink rentals—please check our website for the most up-to-date schedule. \nGrab your gear and hit the ice!
URL:https://westfargoevents.com/event/open-hockey-3/
LOCATION:The Lights Ice Rink\, 300 32nd Ave W\, West Fargo\, ND\, 58078\, United States
CATEGORIES:Community,Family,Featured,Hockey,Outdoor Recreation,Seasonal
ATTACH;FMTTYPE=image/png:https://westfargoevents.com/wp-content/uploads/2026/01/Open-Hockey-Website-Event-Image.png
ORGANIZER;CN="West Fargo Events":MAILTO:info@westfargoevents.com
END:VEVENT
BEGIN:VEVENT
DTSTART;TZID=UTC:20260302T130000
DTEND;TZID=UTC:20260302T203000
DTSTAMP:20260419T171610
CREATED:20260302T184652Z
LAST-MODIFIED:20260302T184658Z
UID:10001292-1772456400-1772483400@westfargoevents.com
SUMMARY:Open Skate
DESCRIPTION:Enjoy FREE community skating at The Lights Ice Rink! ⛸️❄️Whether you’re gliding for fun\, practicing your skills\, or making memories with family and friends\, our rink is open and welcoming to all 💙✨ \nNeed skates? No problem! 👟Rentals are available for just $5 in the Community Room. We also offer skate aids for young children and anyone who could use a little extra support on the ice—because everyone deserves to feel confident and have fun out there 🙌😊 \nSo come bundle up 🧣\, lace up 👟\, and enjoy the season with us ❄️✨ \n*All times are subject to change due to private rentals\, weather\, or scheduled events
URL:https://westfargoevents.com/event/open-skate-5/2026-03-02/
LOCATION:Essentia Health Plaza at The Lights\, 3150 Sheyenne Street\, West Fargo\, ND\, 58078\, United States
CATEGORIES:Community,Family,Featured,Outdoor Recreation,Seasonal
ATTACH;FMTTYPE=image/jpeg:https://westfargoevents.com/wp-content/uploads/2025/12/Open-Skate-Website-Event-Image.jpg
END:VEVENT
BEGIN:VEVENT
DTSTART;TZID=UTC:20260303T130000
DTEND;TZID=UTC:20260303T203000
DTSTAMP:20260419T171610
CREATED:20260302T184652Z
LAST-MODIFIED:20260302T184658Z
UID:10001293-1772542800-1772569800@westfargoevents.com
SUMMARY:Open Skate
DESCRIPTION:Enjoy FREE community skating at The Lights Ice Rink! ⛸️❄️Whether you’re gliding for fun\, practicing your skills\, or making memories with family and friends\, our rink is open and welcoming to all 💙✨ \nNeed skates? No problem! 👟Rentals are available for just $5 in the Community Room. We also offer skate aids for young children and anyone who could use a little extra support on the ice—because everyone deserves to feel confident and have fun out there 🙌😊 \nSo come bundle up 🧣\, lace up 👟\, and enjoy the season with us ❄️✨ \n*All times are subject to change due to private rentals\, weather\, or scheduled events
URL:https://westfargoevents.com/event/open-skate-5/2026-03-03/
LOCATION:Essentia Health Plaza at The Lights\, 3150 Sheyenne Street\, West Fargo\, ND\, 58078\, United States
CATEGORIES:Community,Family,Featured,Outdoor Recreation,Seasonal
ATTACH;FMTTYPE=image/jpeg:https://westfargoevents.com/wp-content/uploads/2025/12/Open-Skate-Website-Event-Image.jpg
END:VEVENT
BEGIN:VEVENT
DTSTART;TZID=UTC:20260304T130000
DTEND;TZID=UTC:20260304T203000
DTSTAMP:20260419T171610
CREATED:20260302T184652Z
LAST-MODIFIED:20260302T184658Z
UID:10001294-1772629200-1772656200@westfargoevents.com
SUMMARY:Open Skate
DESCRIPTION:Enjoy FREE community skating at The Lights Ice Rink! ⛸️❄️Whether you’re gliding for fun\, practicing your skills\, or making memories with family and friends\, our rink is open and welcoming to all 💙✨ \nNeed skates? No problem! 👟Rentals are available for just $5 in the Community Room. We also offer skate aids for young children and anyone who could use a little extra support on the ice—because everyone deserves to feel confident and have fun out there 🙌😊 \nSo come bundle up 🧣\, lace up 👟\, and enjoy the season with us ❄️✨ \n*All times are subject to change due to private rentals\, weather\, or scheduled events
URL:https://westfargoevents.com/event/open-skate-5/2026-03-04/
LOCATION:Essentia Health Plaza at The Lights\, 3150 Sheyenne Street\, West Fargo\, ND\, 58078\, United States
CATEGORIES:Community,Family,Featured,Outdoor Recreation,Seasonal
ATTACH;FMTTYPE=image/jpeg:https://westfargoevents.com/wp-content/uploads/2025/12/Open-Skate-Website-Event-Image.jpg
END:VEVENT
BEGIN:VEVENT
DTSTART;VALUE=DATE:20260306
DTEND;VALUE=DATE:20260308
DTSTAMP:20260419T171610
CREATED:20260126T223256Z
LAST-MODIFIED:20260306T194421Z
UID:10001246-1772755200-1772927999@westfargoevents.com
SUMMARY:Bar Down Bonspiel
DESCRIPTION:!! CANCELLED !! due to warm temperatures and ice conditions.\n\n BAM! SWEEP! SCORE! \n\nCalling all curlers! It’s time to unleash your inner superhero at the Bar Down Bonspiel. Don your super suits\, wield your mystical brooms\, and sweep those dastardly rocks into submission!\n March 6 & 7 Essentia Health Plaza\n\n Secure your spot:  https://tinyurl.com/BarDown-Bonspiel
URL:https://westfargoevents.com/event/bar-down-bonspiel/
LOCATION:The Lights Ice Rink\, 300 32nd Ave W\, West Fargo\, ND\, 58078\, United States
CATEGORIES:Community,Family,Featured,Outdoor Recreation,Seasonal
ATTACH;FMTTYPE=image/png:https://westfargoevents.com/wp-content/uploads/2026/01/Website-Event-Image.png
ORGANIZER;CN="West Fargo Events":MAILTO:info@westfargoevents.com
END:VEVENT
BEGIN:VEVENT
DTSTART;TZID=UTC:20260306T183000
DTEND;TZID=UTC:20260306T210000
DTSTAMP:20260419T171610
CREATED:20260212T213310Z
LAST-MODIFIED:20260212T213313Z
UID:10001273-1772821800-1772830800@westfargoevents.com
SUMMARY:Stage West: Murder Mystery Dinner Theatre
DESCRIPTION:Join Stage West for a Murder Mystery Dinner Theatre event featuring the play WINE\, CHEESE\, AND MURDER by Michael Druce. \nEnjoy a special food and drink event while helping to solve the murder about to unfold. This is a participation event where the audience can interact with cast members and discover additional clues as they fill out their ”Whodunit?” clue sheet. \nPerformances: March 6 & 7: Seating and Social begins at 6:30p\, Food at 7:00p\, Show begins at 7:30p. \nLocation: Stage West Studio (300 Sheyenne Street\, West Fargo) \nShow Synopsis:  To publicize her new wine\, vineyard owner Chardonnay Boudreaux invites wine expert Beau Jolie to host a wine tasting. The tasting immediately turns sour when Beau discovers the wine is contaminated with gasoline. Before anyone can cry sour grapes\, Beau Jolie drops dead. Police Chief Moscato launches an investigation\, only to be faced with another murder. Are the two murders and the ruined wine the work of one person or more? Could it be Chardonnay’s sister Brie or their estranged stepbrother Marlowe? Perhaps French cheese master Henri Chablis or longtime manager Madeira Lambrusco had a hand in the crimes? Ripe with suspects and motives\, this mystery is looking like a vintage murder. \n  \nGet your tickets here!
URL:https://westfargoevents.com/event/stage-west-murder-mystery-dinner-theatre/2026-03-06/
LOCATION:Stage West Studio\, 300 Sheyenne St. Suite 120\, West Fargo\, ND\, 58078\, United States
CATEGORIES:Community,Family,Featured,Live Performance,Theater
ATTACH;FMTTYPE=image/png:https://westfargoevents.com/wp-content/uploads/2026/02/WC-MM-WFE-Website-Event-Image.png
END:VEVENT
BEGIN:VEVENT
DTSTART;TZID=UTC:20260307T183000
DTEND;TZID=UTC:20260307T210000
DTSTAMP:20260419T171610
CREATED:20260212T213310Z
LAST-MODIFIED:20260212T213313Z
UID:10001274-1772908200-1772917200@westfargoevents.com
SUMMARY:Stage West: Murder Mystery Dinner Theatre
DESCRIPTION:Join Stage West for a Murder Mystery Dinner Theatre event featuring the play WINE\, CHEESE\, AND MURDER by Michael Druce. \nEnjoy a special food and drink event while helping to solve the murder about to unfold. This is a participation event where the audience can interact with cast members and discover additional clues as they fill out their ”Whodunit?” clue sheet. \nPerformances: March 6 & 7: Seating and Social begins at 6:30p\, Food at 7:00p\, Show begins at 7:30p. \nLocation: Stage West Studio (300 Sheyenne Street\, West Fargo) \nShow Synopsis:  To publicize her new wine\, vineyard owner Chardonnay Boudreaux invites wine expert Beau Jolie to host a wine tasting. The tasting immediately turns sour when Beau discovers the wine is contaminated with gasoline. Before anyone can cry sour grapes\, Beau Jolie drops dead. Police Chief Moscato launches an investigation\, only to be faced with another murder. Are the two murders and the ruined wine the work of one person or more? Could it be Chardonnay’s sister Brie or their estranged stepbrother Marlowe? Perhaps French cheese master Henri Chablis or longtime manager Madeira Lambrusco had a hand in the crimes? Ripe with suspects and motives\, this mystery is looking like a vintage murder. \n  \nGet your tickets here!
URL:https://westfargoevents.com/event/stage-west-murder-mystery-dinner-theatre/2026-03-07/
LOCATION:Stage West Studio\, 300 Sheyenne St. Suite 120\, West Fargo\, ND\, 58078\, United States
CATEGORIES:Community,Family,Featured,Live Performance,Theater
ATTACH;FMTTYPE=image/png:https://westfargoevents.com/wp-content/uploads/2026/02/WC-MM-WFE-Website-Event-Image.png
END:VEVENT
BEGIN:VEVENT
DTSTART;TZID=UTC:20260308T150000
DTEND;TZID=UTC:20260308T150000
DTSTAMP:20260419T171610
CREATED:20251208T163533Z
LAST-MODIFIED:20251209T163148Z
UID:10000669-1772982000-1772982000@westfargoevents.com
SUMMARY:Dive Bar Meat Raffle
DESCRIPTION:Join us every Sunday at 3 PM for the Dive Bar Meat Raffle—the most unexpectedly exciting way to wrap up your weekend! Grab a seat\, order your favorite drink\, and get ready for a fast-paced\, laugh-filled chance to win MEAT. Yup… actual cuts of meat. Steaks\, roasts\, bacon—who knows what you’ll take home each week!\nBest part? Every round supports West Fargo Events\, helping us bring more free and fun community activities to our city.\nCome for the meat. Stay for the vibes.\nSee you Sunday! 
URL:https://westfargoevents.com/event/dive-bar-meat-raffle/2026-03-08/
LOCATION:Dive Bar\, 360 32nd Ave W Suite 140\, West Fargo\, ND\, 58078\, United States
CATEGORIES:Charitable Gaming
ATTACH;FMTTYPE=image/jpeg:https://westfargoevents.com/wp-content/uploads/2025/12/Meat-Raffle-Website-Homepage-1.jpg
END:VEVENT
BEGIN:VEVENT
DTSTART;TZID=UTC:20260315T150000
DTEND;TZID=UTC:20260315T150000
DTSTAMP:20260419T171610
CREATED:20251208T163533Z
LAST-MODIFIED:20251209T163148Z
UID:10000670-1773586800-1773586800@westfargoevents.com
SUMMARY:Dive Bar Meat Raffle
DESCRIPTION:Join us every Sunday at 3 PM for the Dive Bar Meat Raffle—the most unexpectedly exciting way to wrap up your weekend! Grab a seat\, order your favorite drink\, and get ready for a fast-paced\, laugh-filled chance to win MEAT. Yup… actual cuts of meat. Steaks\, roasts\, bacon—who knows what you’ll take home each week!\nBest part? Every round supports West Fargo Events\, helping us bring more free and fun community activities to our city.\nCome for the meat. Stay for the vibes.\nSee you Sunday! 
URL:https://westfargoevents.com/event/dive-bar-meat-raffle/2026-03-15/
LOCATION:Dive Bar\, 360 32nd Ave W Suite 140\, West Fargo\, ND\, 58078\, United States
CATEGORIES:Charitable Gaming
ATTACH;FMTTYPE=image/jpeg:https://westfargoevents.com/wp-content/uploads/2025/12/Meat-Raffle-Website-Homepage-1.jpg
END:VEVENT
BEGIN:VEVENT
DTSTART;TZID=UTC:20260322T150000
DTEND;TZID=UTC:20260322T150000
DTSTAMP:20260419T171610
CREATED:20251208T163533Z
LAST-MODIFIED:20251209T163148Z
UID:10000671-1774191600-1774191600@westfargoevents.com
SUMMARY:Dive Bar Meat Raffle
DESCRIPTION:Join us every Sunday at 3 PM for the Dive Bar Meat Raffle—the most unexpectedly exciting way to wrap up your weekend! Grab a seat\, order your favorite drink\, and get ready for a fast-paced\, laugh-filled chance to win MEAT. Yup… actual cuts of meat. Steaks\, roasts\, bacon—who knows what you’ll take home each week!\nBest part? Every round supports West Fargo Events\, helping us bring more free and fun community activities to our city.\nCome for the meat. Stay for the vibes.\nSee you Sunday! 
URL:https://westfargoevents.com/event/dive-bar-meat-raffle/2026-03-22/
LOCATION:Dive Bar\, 360 32nd Ave W Suite 140\, West Fargo\, ND\, 58078\, United States
CATEGORIES:Charitable Gaming
ATTACH;FMTTYPE=image/jpeg:https://westfargoevents.com/wp-content/uploads/2025/12/Meat-Raffle-Website-Homepage-1.jpg
END:VEVENT
BEGIN:VEVENT
DTSTART;TZID=UTC:20260329T150000
DTEND;TZID=UTC:20260329T150000
DTSTAMP:20260419T171610
CREATED:20251208T163533Z
LAST-MODIFIED:20251209T163148Z
UID:10000672-1774796400-1774796400@westfargoevents.com
SUMMARY:Dive Bar Meat Raffle
DESCRIPTION:Join us every Sunday at 3 PM for the Dive Bar Meat Raffle—the most unexpectedly exciting way to wrap up your weekend! Grab a seat\, order your favorite drink\, and get ready for a fast-paced\, laugh-filled chance to win MEAT. Yup… actual cuts of meat. Steaks\, roasts\, bacon—who knows what you’ll take home each week!\nBest part? Every round supports West Fargo Events\, helping us bring more free and fun community activities to our city.\nCome for the meat. Stay for the vibes.\nSee you Sunday! 
URL:https://westfargoevents.com/event/dive-bar-meat-raffle/2026-03-29/
LOCATION:Dive Bar\, 360 32nd Ave W Suite 140\, West Fargo\, ND\, 58078\, United States
CATEGORIES:Charitable Gaming
ATTACH;FMTTYPE=image/jpeg:https://westfargoevents.com/wp-content/uploads/2025/12/Meat-Raffle-Website-Homepage-1.jpg
END:VEVENT
END:VCALENDAR