BEGIN:VCALENDAR
VERSION:2.0
PRODID:-//westfargoevents.com - ECPv6.15.20//NONSGML v1.0//EN
CALSCALE:GREGORIAN
METHOD:PUBLISH
X-ORIGINAL-URL:https://westfargoevents.com
X-WR-CALDESC:Events for westfargoevents.com
REFRESH-INTERVAL;VALUE=DURATION:PT1H
X-Robots-Tag:noindex
X-PUBLISHED-TTL:PT1H
BEGIN:VTIMEZONE
TZID:UTC
BEGIN:STANDARD
TZOFFSETFROM:+0000
TZOFFSETTO:+0000
TZNAME:UTC
DTSTART:20250101T000000
END:STANDARD
END:VTIMEZONE
BEGIN:VEVENT
DTSTART;TZID=UTC:20260503T110000
DTEND;TZID=UTC:20260503T130000
DTSTAMP:20260419T185154
CREATED:20260306T173411Z
LAST-MODIFIED:20260306T173450Z
UID:10001295-1777806000-1777813200@westfargoevents.com
SUMMARY:Bubblemania
DESCRIPTION:Get ready for a bubbly good time at Bubblemania Family Fun Day on Sunday\, May 3rd! This exciting event is packed with bubble-filled fun for the whole family. From giant bubbles to bubble games\, kids and adults alike will be amazed by the magic of bubbles in all shapes and sizes.\n\n🗓️: May 4\, 2025\n⏰: 11:00 AM – 1:00 PM\n📍: Essentia Health Plaza at The Lights\n\nActivities include:\nGiant Bubbles – Create massive bubbles that will float and soar high into the sky!\nBubble Stations – Try your hand at making your own bubbles with a variety of tools and techniques.\nBubble Art – Create bubble-themed crafts to take home.\nBubble Dance Party – Groove to some fun tunes as we dance with bubbles floating around!\nAnd Much More!!\n\nThis family-friendly event is the perfect way to spend the afternoon with loved ones while enjoying the wonders of bubbles. Be sure to bring your cameras – you won’t want to miss the photo ops!\n\nDon’t forget:\nWear clothes that you don’t mind getting a little wet!\nSnacks and refreshments will be available for purchase.\n\nCome join the bubble fun\, and make Sunday\, May 3rd a day to remember for the whole family! We can’t wait to see you there!
URL:https://westfargoevents.com/event/bubblemania/
LOCATION:Essentia Health Plaza at The Lights\, 3150 Sheyenne Street\, West Fargo\, ND\, 58078\, United States
CATEGORIES:Community,Family,Featured
ATTACH;FMTTYPE=image/png:https://westfargoevents.com/wp-content/uploads/2026/03/WFE-Event-image.png
ORGANIZER;CN="West Fargo Events":MAILTO:info@westfargoevents.com
END:VEVENT
BEGIN:VEVENT
DTSTART;TZID=UTC:20260503T150000
DTEND;TZID=UTC:20260503T150000
DTSTAMP:20260419T185154
CREATED:20251208T163533Z
LAST-MODIFIED:20251209T163148Z
UID:10000677-1777820400-1777820400@westfargoevents.com
SUMMARY:Dive Bar Meat Raffle
DESCRIPTION:Join us every Sunday at 3 PM for the Dive Bar Meat Raffle—the most unexpectedly exciting way to wrap up your weekend! Grab a seat\, order your favorite drink\, and get ready for a fast-paced\, laugh-filled chance to win MEAT. Yup… actual cuts of meat. Steaks\, roasts\, bacon—who knows what you’ll take home each week!\nBest part? Every round supports West Fargo Events\, helping us bring more free and fun community activities to our city.\nCome for the meat. Stay for the vibes.\nSee you Sunday! 
URL:https://westfargoevents.com/event/dive-bar-meat-raffle/2026-05-03/
LOCATION:Dive Bar\, 360 32nd Ave W Suite 140\, West Fargo\, ND\, 58078\, United States
CATEGORIES:Charitable Gaming
ATTACH;FMTTYPE=image/jpeg:https://westfargoevents.com/wp-content/uploads/2025/12/Meat-Raffle-Website-Homepage-1.jpg
END:VEVENT
BEGIN:VEVENT
DTSTART;TZID=UTC:20260510T150000
DTEND;TZID=UTC:20260510T150000
DTSTAMP:20260419T185154
CREATED:20251208T163533Z
LAST-MODIFIED:20251209T163148Z
UID:10000678-1778425200-1778425200@westfargoevents.com
SUMMARY:Dive Bar Meat Raffle
DESCRIPTION:Join us every Sunday at 3 PM for the Dive Bar Meat Raffle—the most unexpectedly exciting way to wrap up your weekend! Grab a seat\, order your favorite drink\, and get ready for a fast-paced\, laugh-filled chance to win MEAT. Yup… actual cuts of meat. Steaks\, roasts\, bacon—who knows what you’ll take home each week!\nBest part? Every round supports West Fargo Events\, helping us bring more free and fun community activities to our city.\nCome for the meat. Stay for the vibes.\nSee you Sunday! 
URL:https://westfargoevents.com/event/dive-bar-meat-raffle/2026-05-10/
LOCATION:Dive Bar\, 360 32nd Ave W Suite 140\, West Fargo\, ND\, 58078\, United States
CATEGORIES:Charitable Gaming
ATTACH;FMTTYPE=image/jpeg:https://westfargoevents.com/wp-content/uploads/2025/12/Meat-Raffle-Website-Homepage-1.jpg
END:VEVENT
BEGIN:VEVENT
DTSTART;TZID=UTC:20260511T173000
DTEND;TZID=UTC:20260511T190000
DTSTAMP:20260419T185154
CREATED:20260327T171334Z
LAST-MODIFIED:20260327T171719Z
UID:10001310-1778520600-1778526000@westfargoevents.com
SUMMARY:Paws on the Pavement
DESCRIPTION: Kick off summer the right way with your furry best friend by your side! \n\nThe Paws on the Pavement 5K is back and better than ever! Join us on May 11 at the Essentia Health Plaza for a tail-waggin’ good time at our puppy-themed 5K.\nAnd don’t run off too fast stick around after the race for Woofstock\, where the fun keeps going! \n\nThis is an untimed fun run\nSign up here  : https://tinyurl.com/RunWestFargo2026
URL:https://westfargoevents.com/event/paws-on-the-pavement/
LOCATION:Essentia Health Plaza at The Lights\, 3150 Sheyenne Street\, West Fargo\, ND\, 58078\, United States
CATEGORIES:Community,Family,Featured
ATTACH;FMTTYPE=image/jpeg:https://westfargoevents.com/wp-content/uploads/2026/03/Website-EI.jpg
ORGANIZER;CN="West Fargo Events":MAILTO:info@westfargoevents.com
END:VEVENT
BEGIN:VEVENT
DTSTART;TZID=UTC:20260511T173000
DTEND;TZID=UTC:20260511T200000
DTSTAMP:20260419T185154
CREATED:20260327T151059Z
LAST-MODIFIED:20260327T151101Z
UID:10001309-1778520600-1778529600@westfargoevents.com
SUMMARY:Woofstock
DESCRIPTION: Woofstock 2026 Monday\, May 11 | 5:30 PMLocation: Essentia Health Plaza at The Lights\n\nGet ready for a tail-waggin’ good time at Woofstock – the ultimate dog-friendly event celebrating our four-legged friends in groovy style!\nJoin us for an evening packed with pawsome activities including: Our Paws on the Pavement 5k (registration at 5pm run starts at 5:30)– preregister here: https://tinyurl.com/RunWestFargo2026 Dog Costume Contest – visit the West Fargo Events booth to enter into the costume contest. We will have a social media vote! Paw & Nose Print Craft Station – make a one-of-a-kind keepsake with your furry best friend Custom Dog Bandanas – stylish swag your pup will love Dog-Friendly Vendors – treats\, toys\, accessories\, and more\n\nWhether your pup is a diva\, a chill companion\, or the life of the paw-ty\, Woofstock is the perfect way to celebrate the bond between humans and their dogs.\nAll friendly\, leashed dogs welcome!Admission is free – bring your friends\, family\, and most importantly\, your pup!Let’s make some memories and bark the night away at Woofstock 2025! \n\nThank you to our community events sponsors Cass County Electric and Farmer’s Union Insurance for making Woofstock possible!
URL:https://westfargoevents.com/event/woofstock-2/
LOCATION:Essentia Health Plaza at The Lights\, 3150 Sheyenne Street\, West Fargo\, ND\, 58078\, United States
CATEGORIES:Community,Family,Featured
ATTACH;FMTTYPE=image/png:https://westfargoevents.com/wp-content/uploads/2026/03/WFE-Website-Event-Image.png
ORGANIZER;CN="West Fargo Events":MAILTO:info@westfargoevents.com
END:VEVENT
BEGIN:VEVENT
DTSTART;TZID=UTC:20260517T150000
DTEND;TZID=UTC:20260517T150000
DTSTAMP:20260419T185154
CREATED:20251208T163533Z
LAST-MODIFIED:20251209T163148Z
UID:10000679-1779030000-1779030000@westfargoevents.com
SUMMARY:Dive Bar Meat Raffle
DESCRIPTION:Join us every Sunday at 3 PM for the Dive Bar Meat Raffle—the most unexpectedly exciting way to wrap up your weekend! Grab a seat\, order your favorite drink\, and get ready for a fast-paced\, laugh-filled chance to win MEAT. Yup… actual cuts of meat. Steaks\, roasts\, bacon—who knows what you’ll take home each week!\nBest part? Every round supports West Fargo Events\, helping us bring more free and fun community activities to our city.\nCome for the meat. Stay for the vibes.\nSee you Sunday! 
URL:https://westfargoevents.com/event/dive-bar-meat-raffle/2026-05-17/
LOCATION:Dive Bar\, 360 32nd Ave W Suite 140\, West Fargo\, ND\, 58078\, United States
CATEGORIES:Charitable Gaming
ATTACH;FMTTYPE=image/jpeg:https://westfargoevents.com/wp-content/uploads/2025/12/Meat-Raffle-Website-Homepage-1.jpg
END:VEVENT
BEGIN:VEVENT
DTSTART;TZID=UTC:20260524T150000
DTEND;TZID=UTC:20260524T150000
DTSTAMP:20260419T185154
CREATED:20251208T163533Z
LAST-MODIFIED:20251209T163148Z
UID:10000680-1779634800-1779634800@westfargoevents.com
SUMMARY:Dive Bar Meat Raffle
DESCRIPTION:Join us every Sunday at 3 PM for the Dive Bar Meat Raffle—the most unexpectedly exciting way to wrap up your weekend! Grab a seat\, order your favorite drink\, and get ready for a fast-paced\, laugh-filled chance to win MEAT. Yup… actual cuts of meat. Steaks\, roasts\, bacon—who knows what you’ll take home each week!\nBest part? Every round supports West Fargo Events\, helping us bring more free and fun community activities to our city.\nCome for the meat. Stay for the vibes.\nSee you Sunday! 
URL:https://westfargoevents.com/event/dive-bar-meat-raffle/2026-05-24/
LOCATION:Dive Bar\, 360 32nd Ave W Suite 140\, West Fargo\, ND\, 58078\, United States
CATEGORIES:Charitable Gaming
ATTACH;FMTTYPE=image/jpeg:https://westfargoevents.com/wp-content/uploads/2025/12/Meat-Raffle-Website-Homepage-1.jpg
END:VEVENT
BEGIN:VEVENT
DTSTART;TZID=UTC:20260529T190000
DTEND;TZID=UTC:20260529T220000
DTSTAMP:20260419T185154
CREATED:20260317T100030Z
LAST-MODIFIED:20260317T143625Z
UID:10001307-1780081200-1780092000@westfargoevents.com
SUMMARY:Chutes and Boots Pro Bull Riding
DESCRIPTION:Get ready for a high energy weekend with TWO NIGHTS of Chutes and Boots Pro Bull Riding presented by North Dakota State College of Science! 🐂🤠\n\nRound up your family\, friends\, or coworkers and head to Essentia Health Plaza at The Lights for an unforgettable night of adrenaline\, entertainment\, and western tradition. From the moment the chutes open\, you’ll feel the energy of the crowd as top professional bull riders face off against some of the toughest bulls in the sport. It’s fast\, intense\, and guaranteed to keep you on the edge of your seat!\n\nWhether you’re a longtime bull riding fan or experiencing this event for the first time\, Chutes and Boots Pro Bull Riding is the perfect night out. The atmosphere\, the action\, and the excitement make it a can’t-miss event for all ages.\n\nEvent Schedule:\nDoors Open: 6:00 PM – Arrive early\, grab food from concessions or drinks from the bar\, and soak in the excitement before the action begins.\nBull Riding: 7:00 PM – The main event starts! Watch elite riders attempt the ultimate 8-second ride as powerful bulls explode out of the chutes in one of the most thrilling sports on earth.\nPut on your boots\, bring your crew\, and get ready for a night filled with cheers\, thrills\, and unforgettable moments.\n\n🎟 Tickets are ON SALE NOW! Don’t wait—secure your seats and experience the action live at Chutes and Boots Pro Bull Riding\n\nFRIDAY TICKETS                                          SATURDAY TICKETS
URL:https://westfargoevents.com/event/chutes-and-boots-pro-bull-riding/2026-05-29/
LOCATION:Essentia Health Plaza at The Lights\, 3150 Sheyenne Street\, West Fargo\, ND\, 58078\, United States
CATEGORIES:Community,Family,Featured,Live Performance,Seasonal
ATTACH;FMTTYPE=image/png:https://westfargoevents.com/wp-content/uploads/2026/03/Bull-Riding-26-WFE-Website-Event-Image.png
ORGANIZER;CN="West Fargo Events":MAILTO:info@westfargoevents.com
END:VEVENT
BEGIN:VEVENT
DTSTART;TZID=UTC:20260530T190000
DTEND;TZID=UTC:20260530T220000
DTSTAMP:20260419T185154
CREATED:20260317T100030Z
LAST-MODIFIED:20260317T143625Z
UID:10001308-1780167600-1780178400@westfargoevents.com
SUMMARY:Chutes and Boots Pro Bull Riding
DESCRIPTION:Get ready for a high energy weekend with TWO NIGHTS of Chutes and Boots Pro Bull Riding presented by North Dakota State College of Science! 🐂🤠\n\nRound up your family\, friends\, or coworkers and head to Essentia Health Plaza at The Lights for an unforgettable night of adrenaline\, entertainment\, and western tradition. From the moment the chutes open\, you’ll feel the energy of the crowd as top professional bull riders face off against some of the toughest bulls in the sport. It’s fast\, intense\, and guaranteed to keep you on the edge of your seat!\n\nWhether you’re a longtime bull riding fan or experiencing this event for the first time\, Chutes and Boots Pro Bull Riding is the perfect night out. The atmosphere\, the action\, and the excitement make it a can’t-miss event for all ages.\n\nEvent Schedule:\nDoors Open: 6:00 PM – Arrive early\, grab food from concessions or drinks from the bar\, and soak in the excitement before the action begins.\nBull Riding: 7:00 PM – The main event starts! Watch elite riders attempt the ultimate 8-second ride as powerful bulls explode out of the chutes in one of the most thrilling sports on earth.\nPut on your boots\, bring your crew\, and get ready for a night filled with cheers\, thrills\, and unforgettable moments.\n\n🎟 Tickets are ON SALE NOW! Don’t wait—secure your seats and experience the action live at Chutes and Boots Pro Bull Riding\n\nFRIDAY TICKETS                                          SATURDAY TICKETS
URL:https://westfargoevents.com/event/chutes-and-boots-pro-bull-riding/2026-05-30/
LOCATION:Essentia Health Plaza at The Lights\, 3150 Sheyenne Street\, West Fargo\, ND\, 58078\, United States
CATEGORIES:Community,Family,Featured,Live Performance,Seasonal
ATTACH;FMTTYPE=image/png:https://westfargoevents.com/wp-content/uploads/2026/03/Bull-Riding-26-WFE-Website-Event-Image.png
ORGANIZER;CN="West Fargo Events":MAILTO:info@westfargoevents.com
END:VEVENT
BEGIN:VEVENT
DTSTART;TZID=UTC:20260531T150000
DTEND;TZID=UTC:20260531T150000
DTSTAMP:20260419T185154
CREATED:20251208T163533Z
LAST-MODIFIED:20251209T163148Z
UID:10000681-1780239600-1780239600@westfargoevents.com
SUMMARY:Dive Bar Meat Raffle
DESCRIPTION:Join us every Sunday at 3 PM for the Dive Bar Meat Raffle—the most unexpectedly exciting way to wrap up your weekend! Grab a seat\, order your favorite drink\, and get ready for a fast-paced\, laugh-filled chance to win MEAT. Yup… actual cuts of meat. Steaks\, roasts\, bacon—who knows what you’ll take home each week!\nBest part? Every round supports West Fargo Events\, helping us bring more free and fun community activities to our city.\nCome for the meat. Stay for the vibes.\nSee you Sunday! 
URL:https://westfargoevents.com/event/dive-bar-meat-raffle/2026-05-31/
LOCATION:Dive Bar\, 360 32nd Ave W Suite 140\, West Fargo\, ND\, 58078\, United States
CATEGORIES:Charitable Gaming
ATTACH;FMTTYPE=image/jpeg:https://westfargoevents.com/wp-content/uploads/2025/12/Meat-Raffle-Website-Homepage-1.jpg
END:VEVENT
END:VCALENDAR